BEGIN:VCALENDAR
VERSION:2.0
PRODID://MusicLiveCOLCHESTER//musiclivecolchester.com//EN
BEGIN:VEVENT
SUMMARY:X-Kaminsky + Greebo + Vix & The Bleeding Hearts + Tyler Baker
DTSTART:20251024T210000
DTSTAMP:20260422T154912Z
UID:x-kaminsky-greebo-more-tba
DESCRIPTION:Veritable supergroup of local talent\, specialising in punk/ne
 w wave bangers from the golden era\, 1976-82
GEO:51.8896;0.9029
LOCATION:CODA
URL:https://musiclivecolchester.com/gigs/x-kaminsky-greebo-more-tba
END:VEVENT
END:VCALENDAR
