BEGIN:VCALENDAR
VERSION:2.0
PRODID://MusicLiveCOLCHESTER//musiclivecolchester.com//EN
BEGIN:VEVENT
SUMMARY:Will Pound & Jenn Butterworth + Armoured Man
DTSTART:20230925T200000
DTSTAMP:20260424T122252Z
UID:will-pound-jenn-butterworth
DESCRIPTION:Will Pound - harmonica/melodeon and Jenn Butterworth - guitar/
 vocals
GEO:51.888742;0.8943686
LOCATION:Colchester Arts Centre
URL:https://musiclivecolchester.com/gigs/will-pound-jenn-butterworth
END:VEVENT
END:VCALENDAR
