BEGIN:VCALENDAR
VERSION:2.0
PRODID://MusicLiveCOLCHESTER//musiclivecolchester.com//EN
BEGIN:VEVENT
SUMMARY:When Ska Meets Rock ’n’ Roll
DTSTART:20250411T194500
DTSTAMP:20260425T014529Z
UID:when-ska-meets-rock-n-roll
DESCRIPTION:The UK’s finest father and son duo Mark and Isaac Anthony
GEO:51.8870847;0.8943278
LOCATION:Headgate Theatre
URL:https://musiclivecolchester.com/gigs/when-ska-meets-rock-n-roll
END:VEVENT
END:VCALENDAR
