BEGIN:VCALENDAR
VERSION:2.0
PRODID://MusicLiveCOLCHESTER//musiclivecolchester.com//EN
BEGIN:VEVENT
SUMMARY:Weird Creature + Simon Bromide
DTSTART:20250613T203000
DTSTAMP:20260422T192431Z
UID:weird-creature-simon-bromide-brewhouse
DESCRIPTION:First gig of the new summer season\, kicking off on a Friday t
 he 13th at the Brewhouse
GEO:51.889483;0.904393
LOCATION:Queen Street Brewhouse
URL:https://musiclivecolchester.com/gigs/weird-creature-simon-bromide-brew
 house
END:VEVENT
END:VCALENDAR
