BEGIN:VCALENDAR
VERSION:2.0
PRODID://MusicLiveCOLCHESTER//musiclivecolchester.com//EN
BEGIN:VEVENT
SUMMARY:Weird Creature - HMV Live & Local
DTSTART:20250705T123000
DTSTAMP:20260422T191955Z
UID:weird-creature-hmv-live-local
DESCRIPTION:50s influenced outsider blues and gothic Americana featuring G
 uy Weir\, James Hitchins and Elmer van der Hoek
GEO:51.8881296;0.8946176
LOCATION:HMV Colchester
URL:https://musiclivecolchester.com/gigs/weird-creature-hmv-live-local
END:VEVENT
END:VCALENDAR
