BEGIN:VCALENDAR
VERSION:2.0
PRODID://MusicLiveCOLCHESTER//musiclivecolchester.com//EN
BEGIN:VEVENT
SUMMARY:Waterflower + White Noise Winter
DTSTART:20240709T200000
DTSTAMP:20260424T213711Z
UID:waterflower-white-noise-winter
DESCRIPTION:A Latvian visionary artist at the forefront of the eco-futuris
 t music movement
GEO:51.888742;0.8943686
LOCATION:Colchester Arts Centre
URL:https://musiclivecolchester.com/gigs/waterflower-white-noise-winter
END:VEVENT
END:VCALENDAR
