BEGIN:VCALENDAR
VERSION:2.0
PRODID://MusicLiveCOLCHESTER//musiclivecolchester.com//EN
BEGIN:VEVENT
SUMMARY:Warren Ireland Album Launch + Sticky Bones Jones + Daniel Stephen 
 Turner
DTSTART:20241114T190000
DTSTAMP:20260424T232649Z
UID:warren-ireland-album-launch-sticky-bones-jones-dan
DESCRIPTION:"The Highs and Lows of Being Normal" album launch
GEO:51.8896;0.9029
LOCATION:CODA
URL:https://musiclivecolchester.com/gigs/warren-ireland-album-launch-stick
 y-bones-jones-dan
END:VEVENT
END:VCALENDAR
