BEGIN:VCALENDAR
VERSION:2.0
PRODID://MusicLiveCOLCHESTER//musiclivecolchester.com//EN
BEGIN:VEVENT
SUMMARY:Wardrobe Assassin + Daveless
DTSTART:20240727T200000
DTSTAMP:20260424T141156Z
UID:wardrobe-assassin-daveless
DESCRIPTION:Simple high energy punk at the Brewhouse
GEO:51.889483;0.904393
LOCATION:Queen Street Brewhouse
URL:https://musiclivecolchester.com/gigs/wardrobe-assassin-daveless
END:VEVENT
END:VCALENDAR
