BEGIN:VCALENDAR
VERSION:2.0
PRODID://MusicLiveCOLCHESTER//musiclivecolchester.com//EN
BEGIN:VEVENT
SUMMARY:Vix & The Bleeding Hearts + Simon Craze
DTSTART:20260425T200000
DTSTAMP:20260420T065629Z
UID:vix-the-bleeding-hearts-simon-craze
DESCRIPTION:UK indie-psychedelic-rock group based in Colchester\, Essex. F
 ronted by Vix Weaver
GEO:51.889483;0.904393
LOCATION:Queen Street Brewhouse
URL:https://musiclivecolchester.com/gigs/vix-the-bleeding-hearts-simon-cra
 ze
END:VEVENT
END:VCALENDAR
