BEGIN:VCALENDAR
VERSION:2.0
PRODID://MusicLiveCOLCHESTER//musiclivecolchester.com//EN
BEGIN:VEVENT
SUMMARY:Vice Herder - HMV Live & Local
DTSTART:20251018T124500
DTSTAMP:20260420T101908Z
UID:vice-herder-hmv-live-local
DESCRIPTION:National Album Day double bill live in store
GEO:51.8881296;0.8946176
LOCATION:HMV Colchester
URL:https://musiclivecolchester.com/gigs/vice-herder-hmv-live-local
END:VEVENT
END:VCALENDAR
