BEGIN:VCALENDAR
VERSION:2.0
PRODID://MusicLiveCOLCHESTER//musiclivecolchester.com//EN
BEGIN:VEVENT
SUMMARY:Vice Herder
DTSTART:20260103T211500
DTSTAMP:20260422T102445Z
UID:vice-herder-coda-january-2026
DESCRIPTION:Rare full band set
GEO:51.8896;0.9029
LOCATION:CODA
URL:https://musiclivecolchester.com/gigs/vice-herder-coda-january-2026
END:VEVENT
END:VCALENDAR
