BEGIN:VCALENDAR
VERSION:2.0
PRODID://MusicLiveCOLCHESTER//musiclivecolchester.com//EN
BEGIN:VEVENT
SUMMARY:Uridium + War Grave + Reverent Son
DTSTART:20251107T200000
DTSTAMP:20260424T221519Z
UID:uridium-war-grave-reverent-son
DESCRIPTION:Old school metal forged in Norwich\, UK
GEO:51.8896;0.9029
LOCATION:CODA
URL:https://musiclivecolchester.com/gigs/uridium-war-grave-reverent-son
END:VEVENT
END:VCALENDAR
