BEGIN:VCALENDAR
VERSION:2.0
PRODID://MusicLiveCOLCHESTER//musiclivecolchester.com//EN
BEGIN:VEVENT
SUMMARY:Wednesday Jam Session - 13/05/2026
DTSTART:20260513T200000
DTSTAMP:20260420T054410Z
UID:twm-wednesday-jam-session-20260513
DESCRIPTION:The fortnightly jam sesh is on Wednesdays down in the Speakeas
 y gin bar at Three Wise Monkeys in Colchester
GEO:51.889453;0.902372
LOCATION:Three Wise Monkeys
URL:https://musiclivecolchester.com/gigs/twm-wednesday-jam-session-2026051
 3
END:VEVENT
END:VCALENDAR
