BEGIN:VCALENDAR
VERSION:2.0
PRODID://MusicLiveCOLCHESTER//musiclivecolchester.com//EN
BEGIN:VEVENT
SUMMARY:TWM Battle of the Bands Heat III ft. Greebo
DTSTART:20260128T180000
DTEND:20260128T204500
DTSTAMP:20260424T180618Z
UID:twm-battle-of-the-bands-heat-3
DESCRIPTION:Psychographik + No Idea + The Echoes + Midweek + Syncopate
GEO:51.889453;0.902372
LOCATION:Three Wise Monkeys
URL:https://musiclivecolchester.com/gigs/twm-battle-of-the-bands-heat-3
END:VEVENT
END:VCALENDAR
