BEGIN:VCALENDAR
VERSION:2.0
PRODID://MusicLiveCOLCHESTER//musiclivecolchester.com//EN
BEGIN:VEVENT
SUMMARY:Throwback FM + Wyvern
DTSTART:20260425T193000
DTSTAMP:20260420T064706Z
UID:throwback-fm-wyvern
DESCRIPTION:Two powerhouse bands
GEO:51.8545714;0.959958
LOCATION:The Black Buoy\, Wivenhoe
URL:https://musiclivecolchester.com/gigs/throwback-fm-wyvern
END:VEVENT
END:VCALENDAR
