BEGIN:VCALENDAR
VERSION:2.0
PRODID://MusicLiveCOLCHESTER//musiclivecolchester.com//EN
BEGIN:VEVENT
SUMMARY:Three Wise Monkeys Open Mic Night - 12/05/2026
DTSTART:20260512T200000
DTEND:20260512T000000
DTSTAMP:20260424T085342Z
UID:three-wise-monkeys-open-mic-night-20260512
DESCRIPTION:Join us at the Three Wise Monkeys Open Mic Night every Tuesday
  night
GEO:51.889453;0.902372
LOCATION:Three Wise Monkeys
URL:https://musiclivecolchester.com/gigs/three-wise-monkeys-open-mic-night
 -20260512
END:VEVENT
END:VCALENDAR
