BEGIN:VCALENDAR
VERSION:2.0
PRODID://MusicLiveCOLCHESTER//musiclivecolchester.com//EN
BEGIN:VEVENT
SUMMARY:Three Wise Monkeys Open Mic Night - 05/05/2026
DTSTART:20260505T200000
DTEND:20260505T000000
DTSTAMP:20260420T063615Z
UID:three-wise-monkeys-open-mic-night-20260505
DESCRIPTION:Join us at the Three Wise Monkeys Open Mic Night every Tuesday
  night
GEO:51.889453;0.902372
LOCATION:Three Wise Monkeys
URL:https://musiclivecolchester.com/gigs/three-wise-monkeys-open-mic-night
 -20260505
END:VEVENT
END:VCALENDAR
