BEGIN:VCALENDAR
VERSION:2.0
PRODID://MusicLiveCOLCHESTER//musiclivecolchester.com//EN
BEGIN:VEVENT
SUMMARY:Those Colchester Buskers
DTSTART:20260502T190000
DTSTAMP:20260423T120516Z
UID:those-colchester-buskers-kings-arms
DESCRIPTION:Simon\, Terry & Dave - three musicians who take to the streets
  for musical mirth and shenanigans!
GEO:1.8690064;1.0361567
LOCATION:The Kings Arms\, Frating
URL:https://musiclivecolchester.com/gigs/those-colchester-buskers-kings-ar
 ms
END:VEVENT
END:VCALENDAR
