BEGIN:VCALENDAR
VERSION:2.0
PRODID://MusicLiveCOLCHESTER//musiclivecolchester.com//EN
BEGIN:VEVENT
SUMMARY:The Ultimate Elvis & Vegas Legends Tribute Show
DTSTART:20241220T194500
DTSTAMP:20260424T232709Z
UID:the-ultimate-elvis-vegas-legends-tribute-show
DESCRIPTION:Neil Devlin and Dave Black
GEO:51.8870847;0.8943278
LOCATION:Headgate Theatre
URL:https://musiclivecolchester.com/gigs/the-ultimate-elvis-vegas-legends-
 tribute-show
END:VEVENT
END:VCALENDAR
