BEGIN:VCALENDAR
VERSION:2.0
PRODID://MusicLiveCOLCHESTER//musiclivecolchester.com//EN
BEGIN:VEVENT
SUMMARY:The Trial + The Violence Reduction Unit
DTSTART:20250620T200000
DTSTAMP:20260424T232052Z
UID:the-trial-the-violence-reduction-unit
DESCRIPTION:Chelmsford rock band inspired by Tim Buckley\, Can and Charlie
  Mageira
GEO:51.8893298;0.8989601
LOCATION:Roots & Grooves Café
URL:https://musiclivecolchester.com/gigs/the-trial-the-violence-reduction-
 unit
END:VEVENT
END:VCALENDAR
