BEGIN:VCALENDAR
VERSION:2.0
PRODID://MusicLiveCOLCHESTER//musiclivecolchester.com//EN
BEGIN:VEVENT
SUMMARY:The Robin Cancer Trust Benefit Gig
DTSTART:20260605T193000
DTEND:20260605T234500
DTSTAMP:20260422T120159Z
UID:the-robin-cancer-trust-benefit-gig-featuring-lost-
DESCRIPTION:Lost Movies + Fat Pigeon + X-Kaminski + Flabba
GEO:51.889453;0.902372
LOCATION:Three Wise Monkeys
URL:https://musiclivecolchester.com/gigs/the-robin-cancer-trust-benefit-gi
 g-featuring-lost-
END:VEVENT
END:VCALENDAR
