BEGIN:VCALENDAR
VERSION:2.0
PRODID://MusicLiveCOLCHESTER//musiclivecolchester.com//EN
BEGIN:VEVENT
SUMMARY:The Rezidents
DTSTART:20260509T210000
DTSTAMP:20260424T142935Z
UID:the-rezidents-kings-arms
DESCRIPTION:Colchester all-star lineup
GEO:1.8690064;1.0361567
LOCATION:The Kings Arms\, Frating
URL:https://musiclivecolchester.com/gigs/the-rezidents-kings-arms
END:VEVENT
END:VCALENDAR
