BEGIN:VCALENDAR
VERSION:2.0
PRODID://MusicLiveCOLCHESTER//musiclivecolchester.com//EN
BEGIN:VEVENT
SUMMARY:The Rabbitts
DTSTART:20261119T200000
DTSTAMP:20260424T155144Z
UID:the-rabbitts-colchester-arts-centre
DESCRIPTION:Genre-blending folk
GEO:51.888742;0.8943686
LOCATION:Colchester Arts Centre
URL:https://musiclivecolchester.com/gigs/the-rabbitts-colchester-arts-cent
 re
END:VEVENT
END:VCALENDAR
