BEGIN:VCALENDAR
VERSION:2.0
PRODID://MusicLiveCOLCHESTER//musiclivecolchester.com//EN
BEGIN:VEVENT
SUMMARY:The Prettiest Starman - Extra Date
DTSTART:20250125T193000
DTSTAMP:20260424T181434Z
UID:the-prettiest-starman-extra-date
DESCRIPTION:Bowie tribute
GEO:51.889453;0.902372
LOCATION:Three Wise Monkeys
URL:https://musiclivecolchester.com/gigs/the-prettiest-starman-extra-date
END:VEVENT
END:VCALENDAR
