BEGIN:VCALENDAR
VERSION:2.0
PRODID://MusicLiveCOLCHESTER//musiclivecolchester.com//EN
BEGIN:VEVENT
SUMMARY:The Old Forest Path: Jamie Catto Book Launch
DTSTART:20250920T161500
DTEND:20250920T181300
DTSTAMP:20260424T235327Z
UID:the-old-forest-path-jamie-catto-book-launch
DESCRIPTION:Founding member of legendary band Faithless and 1 Giant Leap
GEO:51.8896;0.9029
LOCATION:CODA
URL:https://musiclivecolchester.com/gigs/the-old-forest-path-jamie-catto-b
 ook-launch
END:VEVENT
END:VCALENDAR
