BEGIN:VCALENDAR
VERSION:2.0
PRODID://MusicLiveCOLCHESTER//musiclivecolchester.com//EN
BEGIN:VEVENT
SUMMARY:The King’s Voice
DTSTART:20260424T193000
DTSTAMP:20260423T121121Z
UID:the-kings-voice-gordon-hendricks-as-elvis-colchest
DESCRIPTION:Starring Gordon Hendricks as Elvis
GEO:51.896616;0.9033541
LOCATION:Charter Hall
URL:https://musiclivecolchester.com/gigs/the-kings-voice-gordon-hendricks-
 as-elvis-colchest
END:VEVENT
END:VCALENDAR
