BEGIN:VCALENDAR
VERSION:2.0
PRODID://MusicLiveCOLCHESTER//musiclivecolchester.com//EN
BEGIN:VEVENT
SUMMARY:The Floyd Effect
DTSTART:20260918T200000
DTSTAMP:20260424T215253Z
UID:the-floyd-effect-the-pink-floyd-show-pulse-of-the-
DESCRIPTION:Pulse of the Darkside Tour 2026-27
GEO:51.888742;0.8943686
LOCATION:Colchester Arts Centre
URL:https://musiclivecolchester.com/gigs/the-floyd-effect-the-pink-floyd-s
 how-pulse-of-the-
END:VEVENT
END:VCALENDAR
