BEGIN:VCALENDAR
VERSION:2.0
PRODID://MusicLiveCOLCHESTER//musiclivecolchester.com//EN
BEGIN:VEVENT
SUMMARY:The Femmes
DTSTART:20260911T190000
DTEND:20260911T220000
DTSTAMP:20260424T155645Z
UID:the-femmes-at-patch
DESCRIPTION:Vintage-inspired close harmony trio
GEO:51.8883405;0.8992599
LOCATION:Patch
URL:https://musiclivecolchester.com/gigs/the-femmes-at-patch
END:VEVENT
END:VCALENDAR
