BEGIN:VCALENDAR
VERSION:2.0
PRODID://MusicLiveCOLCHESTER//musiclivecolchester.com//EN
BEGIN:VEVENT
SUMMARY:The Ember Sessions 2
DTSTART:20260425T190000
DTSTAMP:20260423T121131Z
UID:the-ember-sessions-2
DESCRIPTION:Rev Simpkins + Austel + Eli Carvajal
GEO:51.8897496;0.905
LOCATION:The Minories
URL:https://musiclivecolchester.com/gigs/the-ember-sessions-2
END:VEVENT
END:VCALENDAR
