BEGIN:VCALENDAR
VERSION:2.0
PRODID://MusicLiveCOLCHESTER//musiclivecolchester.com//EN
BEGIN:VEVENT
SUMMARY:The Dukes of Haggard
DTSTART:20260515T210000
DTSTAMP:20260424T180710Z
UID:the-dukes-of-haggard
DESCRIPTION:Playing 50s and 60s songs with some country numbers too
GEO:1.8690064;1.0361567
LOCATION:The Kings Arms\, Frating
URL:https://musiclivecolchester.com/gigs/the-dukes-of-haggard
END:VEVENT
END:VCALENDAR
