BEGIN:VCALENDAR
VERSION:2.0
PRODID://MusicLiveCOLCHESTER//musiclivecolchester.com//EN
BEGIN:VEVENT
SUMMARY:The Devil's Prefects
DTSTART:20241117T170000
DTSTAMP:20260424T223428Z
UID:the-devils-prefects
DESCRIPTION:Country music comedy act
GEO:51.8948178;0.8931099
LOCATION:The Victoria Inn
URL:https://musiclivecolchester.com/gigs/the-devils-prefects
END:VEVENT
END:VCALENDAR
