BEGIN:VCALENDAR
VERSION:2.0
PRODID://MusicLiveCOLCHESTER//musiclivecolchester.com//EN
BEGIN:VEVENT
SUMMARY:The City of Colchester Band
DTSTART:20250525T120000
DTSTAMP:20260424T235238Z
UID:the-city-of-colchester-band
DESCRIPTION:One of the oldest brass bands in Essex\, proudly upholding a r
 ich tradition of music-making
GEO:51.8918644;0.9034352
LOCATION:Castle Park Bandstand
URL:https://musiclivecolchester.com/gigs/the-city-of-colchester-band
END:VEVENT
END:VCALENDAR
