BEGIN:VCALENDAR
VERSION:2.0
PRODID://MusicLiveCOLCHESTER//musiclivecolchester.com//EN
BEGIN:VEVENT
SUMMARY:The Big C Promotions - Spring Edition
DTSTART:20260404T180000
DTEND:20260404T230000
DTSTAMP:20260424T001645Z
UID:the-big-c-promotions-spring-edition
DESCRIPTION:Gabriela Eva + Amber Burgoyne + Headline TBC
GEO:51.8897496;0.905
LOCATION:The Minories
URL:https://musiclivecolchester.com/gigs/the-big-c-promotions-spring-editi
 on
END:VEVENT
END:VCALENDAR
