BEGIN:VCALENDAR
VERSION:2.0
PRODID://MusicLiveCOLCHESTER//musiclivecolchester.com//EN
BEGIN:VEVENT
SUMMARY:The Andy Brush Quintet
DTSTART:20241004T190000
DTEND:20241004T220000
DTSTAMP:20260424T181532Z
UID:the-andy-brush-quintet
DESCRIPTION:The Andy Brush Quintet featuring Jessica Sillett @ Patch
GEO:51.8883405;0.8992599
LOCATION:Patch
URL:https://musiclivecolchester.com/gigs/the-andy-brush-quintet
END:VEVENT
END:VCALENDAR
