BEGIN:VCALENDAR
VERSION:2.0
PRODID://MusicLiveCOLCHESTER//musiclivecolchester.com//EN
BEGIN:VEVENT
SUMMARY:Tenors Unlimited - Great Songs Tour
DTSTART:20241016T193000
DTEND:20241016T213000
DTSTAMP:20260424T181716Z
UID:tenors-unlimited-great-songs-tour
DESCRIPTION:Tenors Unlimited are excited to announce their new show ‘Gre
 at Songs Tour’
GEO:51.8892603;0.8944569
LOCATION:Mercury Theatre
URL:https://musiclivecolchester.com/gigs/tenors-unlimited-great-songs-tour
END:VEVENT
END:VCALENDAR
