BEGIN:VCALENDAR
VERSION:2.0
PRODID://MusicLiveCOLCHESTER//musiclivecolchester.com//EN
BEGIN:VEVENT
SUMMARY:Takeda + Big in Sheboygan + Dean Frost
DTSTART:20250523T210000
DTSTAMP:20260424T142715Z
UID:takeda-big-in-sheboygan-dean-frost
DESCRIPTION:Presented by Drongo Records
GEO:51.8896;0.9029
LOCATION:CODA
URL:https://musiclivecolchester.com/gigs/takeda-big-in-sheboygan-dean-fros
 t
END:VEVENT
END:VCALENDAR
