BEGIN:VCALENDAR
VERSION:2.0
PRODID://MusicLiveCOLCHESTER//musiclivecolchester.com//EN
BEGIN:VEVENT
SUMMARY:Sweeting Swing Band
DTSTART:20250524T143000
DTSTAMP:20260424T234801Z
UID:sweeting-swing-band
DESCRIPTION:The Sweeting Swing Band! 9 to 13 piece dance band\, playing fa
 vourites from the Big Band era to today
GEO:51.8918644;0.9034352
LOCATION:Castle Park Bandstand
URL:https://musiclivecolchester.com/gigs/sweeting-swing-band
END:VEVENT
END:VCALENDAR
