BEGIN:VCALENDAR
VERSION:2.0
PRODID://MusicLiveCOLCHESTER//musiclivecolchester.com//EN
BEGIN:VEVENT
SUMMARY:Suthering
DTSTART:20231023T200000
DTSTAMP:20260424T120415Z
UID:suthering
DESCRIPTION:Exquisite vocal harmonies and a message of hope during hard ti
 mes
GEO:51.888742;0.8943686
LOCATION:Colchester Arts Centre
URL:https://musiclivecolchester.com/gigs/suthering
END:VEVENT
END:VCALENDAR
