BEGIN:VCALENDAR
VERSION:2.0
PRODID://MusicLiveCOLCHESTER//musiclivecolchester.com//EN
BEGIN:VEVENT
SUMMARY:Sunday Sessions: Vice Herder
DTSTART:20260426T170000
DTEND:20260426T200000
DTSTAMP:20260420T065828Z
UID:sunday-sessions-vice-herder-april-2026
DESCRIPTION:Vice Herder are a live music duo featuring Rosalind Harniess a
 nd Stu E Skinner
GEO:51.8893809;0.9021976
LOCATION:St Nicholas Square
URL:https://musiclivecolchester.com/gigs/sunday-sessions-vice-herder-april
 -2026
END:VEVENT
END:VCALENDAR
