BEGIN:VCALENDAR
VERSION:2.0
PRODID://MusicLiveCOLCHESTER//musiclivecolchester.com//EN
BEGIN:VEVENT
SUMMARY:Sunday Sessions: The Back Jack Rats
DTSTART:20241103T190000
DTSTAMP:20260424T182720Z
UID:sunday-sessions-the-black-jack-rats
DESCRIPTION:Pop punk\, classic punk and punked up pop
GEO:51.8876699;0.8930575
LOCATION:The Bull
URL:https://musiclivecolchester.com/gigs/sunday-sessions-the-black-jack-ra
 ts
END:VEVENT
END:VCALENDAR
