BEGIN:VCALENDAR
VERSION:2.0
PRODID://MusicLiveCOLCHESTER//musiclivecolchester.com//EN
BEGIN:VEVENT
SUMMARY:Sunday Sessions: Scarlett Rose
DTSTART:20260412T170000
DTEND:20260412T200000
DTSTAMP:20260422T085815Z
UID:sunday-sessions-scarlett-rose-april-2026
DESCRIPTION:Popular hits in the sun
GEO:51.8893809;0.9021976
LOCATION:St Nicholas Square
URL:https://musiclivecolchester.com/gigs/sunday-sessions-scarlett-rose-apr
 il-2026
END:VEVENT
END:VCALENDAR
