BEGIN:VCALENDAR
VERSION:2.0
PRODID://MusicLiveCOLCHESTER//musiclivecolchester.com//EN
BEGIN:VEVENT
SUMMARY:Sunday Sessions: A Light Left On
DTSTART:20260405T170000
DTEND:20260405T200000
DTSTAMP:20260422T084111Z
UID:sunday-sessions-a-light-left-on
DESCRIPTION:Upbeat and light-hearted original trio from sunny Clacton-on-S
 ea
GEO:51.8893809;0.9021976
LOCATION:St Nicholas Square
URL:https://musiclivecolchester.com/gigs/sunday-sessions-a-light-left-on
END:VEVENT
END:VCALENDAR
