BEGIN:VCALENDAR
VERSION:2.0
PRODID://MusicLiveCOLCHESTER//musiclivecolchester.com//EN
BEGIN:VEVENT
SUMMARY:Summer Sunday Sessions: Vice Herder
DTSTART:20250824T150000
DTEND:20250824T180000
DTSTAMP:20260422T084515Z
UID:summer-sunday-sessions-vice-herder-bank-holiday
DESCRIPTION:Vice Herder are a live music duo featuring Rosalind Harniess a
 nd Stu E Skinner
GEO:51.8893809;0.9021976
LOCATION:St Nicholas Square
URL:https://musiclivecolchester.com/gigs/summer-sunday-sessions-vice-herde
 r-bank-holiday
END:VEVENT
END:VCALENDAR
