BEGIN:VCALENDAR
VERSION:2.0
PRODID://MusicLiveCOLCHESTER//musiclivecolchester.com//EN
BEGIN:VEVENT
SUMMARY:Summer Sunday Sessions: Buddy & The Narwhal
DTSTART:20250831T150000
DTEND:20250831T180000
DTSTAMP:20260422T084317Z
UID:summer-sunday-sessions-buddy-narwhal
DESCRIPTION:Decades of your favourite hit songs from the 70s through to mo
 dern day
GEO:51.8893809;0.9021976
LOCATION:St Nicholas Square
URL:https://musiclivecolchester.com/gigs/summer-sunday-sessions-buddy-narw
 hal
END:VEVENT
END:VCALENDAR
