BEGIN:VCALENDAR
VERSION:2.0
PRODID://MusicLiveCOLCHESTER//musiclivecolchester.com//EN
BEGIN:VEVENT
SUMMARY:Southend Wind Orchestra
DTSTART:20250621T143000
DTSTAMP:20260425T001630Z
UID:southend-wind-orchestra
DESCRIPTION:A community wind orchestra based in Southend\, Essex
GEO:51.8918644;0.9034352
LOCATION:Castle Park Bandstand
URL:https://musiclivecolchester.com/gigs/southend-wind-orchestra
END:VEVENT
END:VCALENDAR
