BEGIN:VCALENDAR
VERSION:2.0
PRODID://MusicLiveCOLCHESTER//musiclivecolchester.com//EN
BEGIN:VEVENT
SUMMARY:Soul'd Out - Live Music in the Garden
DTSTART:20260504T130000
DTEND:20260504T160000
DTSTAMP:20260421T151150Z
UID:sould-out-live-music-in-the-garden-2026
DESCRIPTION:Ain't no party like a Soul'd Out party! Motown\, funk\, 70s an
 d 80s dancefloor disco - live!
GEO:51.8877123;0.8927748
LOCATION:The Kings Arms\, Crouch St
URL:https://musiclivecolchester.com/gigs/sould-out-live-music-in-the-garde
 n-2026
END:VEVENT
END:VCALENDAR
