BEGIN:VCALENDAR
VERSION:2.0
PRODID://MusicLiveCOLCHESTER//musiclivecolchester.com//EN
BEGIN:VEVENT
SUMMARY:SKETCHEAD + Colour & Shape + The Other Party
DTSTART:20240713T200000
DTSTAMP:20260424T142624Z
UID:sketchead-colour-shape-the-other-party
DESCRIPTION:Indie cover band plus local support
GEO:51.889483;0.904393
LOCATION:Queen Street Brewhouse
URL:https://musiclivecolchester.com/gigs/sketchead-colour-shape-the-other-
 party
END:VEVENT
END:VCALENDAR
