BEGIN:VCALENDAR
VERSION:2.0
PRODID://MusicLiveCOLCHESTER//musiclivecolchester.com//EN
BEGIN:VEVENT
SUMMARY:Sinéad Orme
DTSTART:20260315T170000
DTEND:20260315T190000
DTSTAMP:20260424T154147Z
UID:sinead-orme-black-buoy-march-2026
DESCRIPTION:Singer-songwriter
GEO:51.8545714;0.959958
LOCATION:The Black Buoy\, Wivenhoe
URL:https://musiclivecolchester.com/gigs/sinead-orme-black-buoy-march-2026
END:VEVENT
END:VCALENDAR
