BEGIN:VCALENDAR
VERSION:2.0
PRODID://MusicLiveCOLCHESTER//musiclivecolchester.com//EN
BEGIN:VEVENT
SUMMARY:Sidetracked - Live Music in the Garden
DTSTART:20260831T130000
DTEND:20260831T160000
DTSTAMP:20260421T165502Z
UID:sidetracked-live-music-in-the-garden-2026
DESCRIPTION:Four piece rock/pop/indie cover band from Essex
GEO:51.8877123;0.8927748
LOCATION:The Kings Arms\, Crouch St
URL:https://musiclivecolchester.com/gigs/sidetracked-live-music-in-the-gar
 den-2026
END:VEVENT
END:VCALENDAR
