BEGIN:VCALENDAR
VERSION:2.0
PRODID://MusicLiveCOLCHESTER//musiclivecolchester.com//EN
BEGIN:VEVENT
SUMMARY:Shed + Hot Rats + Disjunction + Daniel Stephen Turner
DTSTART:20260410T210000
DTSTAMP:20260424T140326Z
UID:shed-hot-rats-disjunction-daniel-stephen-turner
DESCRIPTION:Colchester-based indie rock band empowering imperfection
GEO:51.8896;0.9029
LOCATION:CODA
URL:https://musiclivecolchester.com/gigs/shed-hot-rats-disjunction-daniel-
 stephen-turner
END:VEVENT
END:VCALENDAR
